BEGIN:VCALENDAR
VERSION:2.0
PRODID:-//accademiamb
CALSCALE:GREGORIAN
METHOD:PUBLISH
X-WR-CALNAME:accademiamb
X-ORIGINAL-URL:https://accademiamb.it/prodotto/oimb-evento-formativo-sulla-deontologia/
X-WR-CALDESC:OIMB – Evento Formativo sulla Deontologia
BEGIN:VEVENT
DTSTART:20251223T134500
DTEND:20251223T190000
SUMMARY:OIMB – Evento Formativo sulla Deontologia
DESCRIPTION:<strong>PROGRAMMA</strong>

<strong><a href="https://accademiamb.it/wp-content/uploads/2025/12/OIMB_LOC-EVENTO-DEONTOLOGIA-2025-12-23.pdf">OIMB_LOC EVENTO DEONTOLOGIA 2025 12 23</a></strong>

<strong>14.00 – 14:15, </strong>Ing. <strong>Pierpaolo Cicchiello</strong> Presidente OIMB, Ing. <strong>Vittorio Ravot</strong> Consigliere OIMB
<ul>
 	<li><strong>Saluti istituzionali</strong></li>
 	<li><strong>Introduzione all’evento</strong></li>
 	<li><strong>PREMESSE del Codice Deontologico (CD)</strong></li>
</ul>
&nbsp;

<strong>14:15 – 14:45,</strong> Ing. <strong>Elisabetta Berticelli</strong>, Consigliere Segretario OIMB
<ul>
 	<li><strong>Capo I PARTE GENERALE (artt. 1-2 CD) – Capo II DOVERI GENERALI (art. 3 CD)</strong></li>
</ul>
&nbsp;

<strong>14:45 – 15:30,</strong> ing. <strong>Giuliano Brioschi</strong>, vicePresidente OIMB
<ul>
 	<li><strong>Capo II DOVERI GENERALI (artt. 4…12 CD)</strong></li>
</ul>
&nbsp;

<strong>15:30 – 16:00,</strong> Ing. <strong>Claudio Bertani</strong>, già VicePresidente Vicario OIMB
<ul>
 	<li><strong>Inarcassa</strong></li>
</ul>
&nbsp;

<strong>16:00 – 16:45,</strong> Ing. <strong>Piercarlo Beretta</strong>, già Presidente CDT OIMB
<ul>
 	<li><strong>Introduzione al funzionamento del Consiglio di Disciplina</strong></li>
</ul>
&nbsp;

<strong>16:45 – 17:30,</strong> Ing. <strong>Antonio Sanna</strong>, Presidente Ordine Ingegneri Sassari
<ul>
 	<li><strong>CAPO III - RAPPORTI INTERNI (artt. 13…16 CD)</strong></li>
 	<li><strong>CAPO V - RAPPORTI CON L’ORDINE (art. 20 CD)</strong></li>
</ul>
&nbsp;

<strong>17:30 – 17:50, </strong>Ing.<strong> Paolo Salsone, </strong>VicePresidente Vicario OIMB
<ul>
 	<li><strong>CAPO IV – RAPPORTI ESTERNI (artt. 17…19 CD)</strong></li>
</ul>
&nbsp;

<strong>17:50 – 18:00,</strong> Ing. <strong>Andrea Colombo</strong>, Consigliere Tesoriere OIMB
<ul>
 	<li><strong>La quota annuale per l’iscrizione all’Albo degli ingegneri</strong></li>
</ul>
&nbsp;

<strong>18.00 – 18:25,</strong> Ing. <strong>Carmelo Alessandro Bonaccorso</strong>, Consigliere OIMB
<ul>
 	<li><strong>Deontologia ed utilizzo della Intelligenza Artificiale</strong></li>
</ul>
&nbsp;

<strong>18:25 – 18.35, </strong>Ing.<strong> Matteo Crippa, </strong>Comm. Formazione OIMB
<ul>
 	<li><strong>La Deontologia e l’Etica Professionale oltre i confini italiani</strong></li>
</ul>
&nbsp;

<strong>18.35 – 19:00, </strong>Ing. <strong>Pierpaolo Cicchiello</strong> Presidente OIMB
<ul>
 	<li><strong>CAPO VI – INCOMPATIBILITÀ (Artt. 21 – 22 CD)</strong></li>
 	<li><strong>Conclusioni</strong></li>
</ul>
&nbsp;
LOCATION:
END:VEVENT
END:VCALENDAR
