BEGIN:VCALENDAR
VERSION:2.0
PRODID:-//accademiamb
CALSCALE:GREGORIAN
METHOD:PUBLISH
X-WR-CALNAME:accademiamb
X-ORIGINAL-URL:https://accademiamb.it/prodotto/soluzioni-di-post-tensione-nella-progettazione-e-realizzazione-di-solai-in-calcestruzzo-armato/
X-WR-CALDESC:SOLUZIONI DI POST TENSIONE NELLA PROGETTAZIONE E REALIZZAZIONE DI SOLAI IN CALCESTRUZZO ARMATO
BEGIN:VEVENT
DTSTART:20230526T140000
DTEND:20230526T180000
SUMMARY:SOLUZIONI DI POST TENSIONE NELLA PROGETTAZIONE E REALIZZAZIONE DI SOLAI IN CALCESTRUZZO ARMATO
DESCRIPTION:Il seminario si propone di poter fornire al professionista le informazioni base necessarie per poter scegliere se il sistema PT slab sia adeguato, il suo dimensionamento ed il suo indirizzo progettuale.

<a href="https://accademiamb.it/wp-content/uploads/2023/05/PERUCCHINI-26-05-2023_locandina_rev00.pdf">PERUCCHINI 26-05-2023_locandina_rev00</a>
LOCATION:
END:VEVENT
END:VCALENDAR
