BEGIN:VCALENDAR
VERSION:2.0
PRODID:-//accademiamb
CALSCALE:GREGORIAN
METHOD:PUBLISH
X-WR-CALNAME:accademiamb
X-ORIGINAL-URL:https://accademiamb.it/prodotto/code_aster-il-software-fem-open-source-flessibile/
X-WR-CALDESC:Code_Aster &#8211; Il software FEM open source flessibile
BEGIN:VEVENT
DTSTART:20230421T150000
DTEND:20230421T170000
SUMMARY:Code_Aster &#8211; Il software FEM open source flessibile
DESCRIPTION:Locandina <a href="https://accademiamb.it/wp-content/uploads/2023/04/SEMINARIO-21-APRILE-2023-1.pdf">SEMINARIO 21 APRILE 2023 1</a>
LOCATION:
END:VEVENT
END:VCALENDAR
