BEGIN:VCALENDAR
VERSION:2.0
PRODID:-//accademiamb
CALSCALE:GREGORIAN
METHOD:PUBLISH
X-WR-CALNAME:accademiamb
X-ORIGINAL-URL:https://accademiamb.it/prodotto/seminario-tecnico-redazione-relazione-ex-l10-91-approfondimento-alla-luce-del-d-lgs-199-2021/
X-WR-CALDESC:Seminario Tecnico: REDAZIONE RELAZIONE EX L10/91: APPROFONDIMENTO ALLA LUCE DEL D. LGS. 199/2021
BEGIN:VEVENT
DTSTART:20230413T150000
DTEND:20230413T180000
SUMMARY:Seminario Tecnico: REDAZIONE RELAZIONE EX L10/91: APPROFONDIMENTO ALLA LUCE DEL D. LGS. 199/2021
DESCRIPTION:<a href="https://accademiamb.it/wp-content/uploads/2023/03/seminario-tecnico-13-04-2023-1.pdf">seminario tecnico 13-04-2023</a>
LOCATION:
END:VEVENT
END:VCALENDAR
