BEGIN:VCALENDAR
VERSION:2.0
PRODID:-//accademiamb
CALSCALE:GREGORIAN
METHOD:PUBLISH
X-WR-CALNAME:accademiamb
X-ORIGINAL-URL:https://accademiamb.it/prodotto/la-comunicazione-efficace-nel-gruppo-di-lavoro/
X-WR-CALDESC:LA COMUNICAZIONE EFFICACE NEL GRUPPO DI LAVORO
BEGIN:VEVENT
DTSTART:20230511T140000
DTEND:20230511T180000
SUMMARY:LA COMUNICAZIONE EFFICACE NEL GRUPPO DI LAVORO
DESCRIPTION:<a href="https://accademiamb.it/wp-content/uploads/2023/03/LOCANDINA-11-MAGGIO-2023.pdf">LOCANDINA - 11 MAGGIO 2023</a>

<strong>Crediti:</strong>
4 cfp per gli iscritti all' Albo degli Ingegneri su tutto il territorio nazionale.

<strong>Quota iscrizione</strong>:
€ 15 per iscritti ordine OIMB
€ 20 per non iscritti OIMB
LOCATION:
END:VEVENT
END:VCALENDAR
