BEGIN:VCALENDAR
VERSION:2.0
PRODID:-//accademiamb
CALSCALE:GREGORIAN
METHOD:PUBLISH
X-WR-CALNAME:accademiamb
X-ORIGINAL-URL:https://accademiamb.it/prodotto/comunicare-in-modo-convincente-e-persuasivo/
X-WR-CALDESC:COMUNICARE IN MODO CONVINCENTE E PERSUASIVO
BEGIN:VEVENT
DTSTART:20230411T140000
DTEND:20230411T180000
SUMMARY:COMUNICARE IN MODO CONVINCENTE E PERSUASIVO
DESCRIPTION:<a href="https://accademiamb.it/wp-content/uploads/2023/03/LOCANDINA-11-APRILE-2023.pdf">LOCANDINA 11 APRILE 2023</a>

&nbsp;

&nbsp;
LOCATION:
END:VEVENT
END:VCALENDAR
