BEGIN:VCALENDAR
VERSION:2.0
PRODID:-//accademiamb
CALSCALE:GREGORIAN
METHOD:PUBLISH
X-WR-CALNAME:accademiamb
X-ORIGINAL-URL:https://accademiamb.it/prodotto/i-vettori-energetici-nel-mondo-dei-trasporti-pubblici-confronto-tra-batterie-al-litio-fuel-cell-idrogeno-gas-metano-cng-ed-idrocarburi/
X-WR-CALDESC:I vettori energetici nel mondo dei trasporti pubblici: confronto tra Batterie al Litio, Fuel Cell, Idrogeno, GAS Metano, CNG ed Idrocarburi.
BEGIN:VEVENT
DTSTART:20230503T140000
DTEND:20230503T183000
SUMMARY:I vettori energetici nel mondo dei trasporti pubblici: confronto tra Batterie al Litio, Fuel Cell, Idrogeno, GAS Metano, CNG ed Idrocarburi.
DESCRIPTION:L’evento formativo ha l’obbiettivo di mettere a confronto i risultati delle esperienze del TPL per avere la loro percezione sul futuro dei vettori energetici nella mobilità urbana

<a href="https://accademiamb.it/wp-content/uploads/2023/03/Locandina-3-maggio-2023.pdf">Locandina 3 maggio 2023</a>
LOCATION:
END:VEVENT
END:VCALENDAR
