BEGIN:VCALENDAR
VERSION:2.0
PRODID:-//accademiamb
CALSCALE:GREGORIAN
METHOD:PUBLISH
X-WR-CALNAME:accademiamb
X-ORIGINAL-URL:https://accademiamb.it/prodotto/le-distanze-legali/
X-WR-CALDESC:LE DISTANZE LEGALI
BEGIN:VEVENT
DTSTART:20230329T133000
DTEND:20230329T180000
SUMMARY:LE DISTANZE LEGALI
DESCRIPTION:<a href="https://accademiamb.it/wp-content/uploads/2023/02/29-03-23-LOCANDINA.pdf">29-03-23-LOCANDINA</a>
LOCATION:
END:VEVENT
END:VCALENDAR
