BEGIN:VCALENDAR
VERSION:2.0
PRODID:-//accademiamb
CALSCALE:GREGORIAN
METHOD:PUBLISH
X-WR-CALNAME:accademiamb
X-ORIGINAL-URL:https://accademiamb.it/prodotto/impermeabilizzazione-e-protezione-di-strutture-in-calcestruzzo-interrate-e-di-contenimento-vasca-bianca-per-cristallizzazione-per-le-nuove-costruzioni-e-risanamento-integrale-per-le-costruzioni-esist/
X-WR-CALDESC:Impermeabilizzazione e protezione di strutture in calcestruzzo interrate e di contenimento: vasca bianca per cristallizzazione per le nuove costruzioni e risanamento integrale per le costruzioni esistenti
BEGIN:VEVENT
DTSTART:20230214T143000
DTEND:20230214T183000
SUMMARY:Impermeabilizzazione e protezione di strutture in calcestruzzo interrate e di contenimento: vasca bianca per cristallizzazione per le nuove costruzioni e risanamento integrale per le costruzioni esistenti
DESCRIPTION:<a href="https://accademiamb.it/wp-content/uploads/2023/01/Locandina-_14-02-2023.pdf">Locandina _14-02-2023</a>
LOCATION:
END:VEVENT
END:VCALENDAR
