BEGIN:VCALENDAR
VERSION:2.0
PRODID:-//accademiamb
CALSCALE:GREGORIAN
METHOD:PUBLISH
X-WR-CALNAME:accademiamb
X-ORIGINAL-URL:https://accademiamb.it/prodotto/seminario-la-gestione-dei-rischi-nelle-manutenzioni-duvri-e-fascicolo-dellopera/
X-WR-CALDESC:Seminario: modulo 9 &#8211; La gestione dei rischi nelle manutenzioni: DUVRI e fascicolo dell’opera
BEGIN:VEVENT
DTSTART:20230420T140000
DTEND:20230420T180000
SUMMARY:Seminario: modulo 9 &#8211; La gestione dei rischi nelle manutenzioni: DUVRI e fascicolo dell’opera
DESCRIPTION:<a href="https://accademiamb.it/wp-content/uploads/2023/01/modulo-9_-20-04-23.pdf">modulo 9_ 20-04-23</a>
LOCATION:
END:VEVENT
END:VCALENDAR
