BEGIN:VCALENDAR
VERSION:2.0
PRODID:-//accademiamb
CALSCALE:GREGORIAN
METHOD:PUBLISH
X-WR-CALNAME:accademiamb
X-ORIGINAL-URL:https://accademiamb.it/prodotto/pos-suggerimenti-per-la-verifica-dellidoneita-del-documento/
X-WR-CALDESC:modulo 7 &#8211; POS: SUGGERIMENTI PER LA VERIFICA DELL’IDONEITÀ DEL DOCUMENTO
BEGIN:VEVENT
DTSTART:20230330T140000
DTEND:20230330T180000
SUMMARY:modulo 7 &#8211; POS: SUGGERIMENTI PER LA VERIFICA DELL’IDONEITÀ DEL DOCUMENTO
DESCRIPTION:Seminario di aggiornamento per  Coordinatori della Sicurezza ai sensi del D.Lgs 81/2008

<a href="https://accademiamb.it/wp-content/uploads/2023/01/modulo-7_-30-03-23.pdf">modulo 7_ 30-03-23</a>
LOCATION:
END:VEVENT
END:VCALENDAR
