BEGIN:VCALENDAR
VERSION:2.0
PRODID:-//accademiamb
CALSCALE:GREGORIAN
METHOD:PUBLISH
X-WR-CALNAME:accademiamb
X-ORIGINAL-URL:https://accademiamb.it/prodotto/seminario-lorganizzazione-delle-aree-di-lavoro-nei-cantieri-di-ristrutturazione-e-riqualificazione/
X-WR-CALDESC:modulo 4  L&#8217;organizzazione delle aree di lavoro nei cantieri di ristrutturazione e riqualificazione.
BEGIN:VEVENT
DTSTART:20230221T140000
DTEND:20230221T180000
SUMMARY:modulo 4  L&#8217;organizzazione delle aree di lavoro nei cantieri di ristrutturazione e riqualificazione.
DESCRIPTION:<strong>4 ore</strong> di aggiornamento  CSE/CSP e ASPP/RSPP.

<a href="https://accademiamb.it/wp-content/uploads/woocommerce_uploads/2023/01/SLIDE-CORRETTE_-21-02-2023-Ing.-Davide-Orsenico-wraacz.pdf">SLIDE CORRETTE_ 21-02-2023 - Ing. Davide Orsenico</a>

<a href="https://accademiamb.it/wp-content/uploads/2023/01/modulo-4_-21-02-23.pdf">modulo 4_ 21-02-23</a>
LOCATION:
END:VEVENT
END:VCALENDAR
