BEGIN:VCALENDAR
VERSION:2.0
PRODID:-//accademiamb
CALSCALE:GREGORIAN
METHOD:PUBLISH
X-WR-CALNAME:accademiamb
X-ORIGINAL-URL:https://accademiamb.it/prodotto/invarianza-idrologica-e-idraulica-normativa-progettazione-e-applicazioni-green/
X-WR-CALDESC:&#8220;Invarianza Idrologica e Idraulica &#8211; Normativa, progettazione e applicazioni green”
BEGIN:VEVENT
DTSTART:20220621T093000
DTEND:20220621T124500
SUMMARY:&#8220;Invarianza Idrologica e Idraulica &#8211; Normativa, progettazione e applicazioni green”
DESCRIPTION:Evento valido per il rilascio di 3 cfp (D.P.R. 137
del 07/08/2012) per gli iscritti all' Albo degli
Ingegneri .

<a href="https://accademiamb.it/wp-content/uploads/2022/05/Locandina-Convegno-Invarianza.pdf">Programma Convegno Invarianza</a>
LOCATION:
END:VEVENT
END:VCALENDAR
