BEGIN:VCALENDAR
VERSION:2.0
PRODID:-//accademiamb
CALSCALE:GREGORIAN
METHOD:PUBLISH
X-WR-CALNAME:accademiamb
X-ORIGINAL-URL:https://accademiamb.it/prodotto/superbonus-110-dalla-a-alla-z-seminario-conclusivo-parte-2/
X-WR-CALDESC:SUPERBONUS 110% DALLA A ALLA Z: SEMINARIO CONCLUSIVO &#8211; Parte 2
BEGIN:VEVENT
DTSTART:20210514T160000
DTEND:20210514T190000
SUMMARY:SUPERBONUS 110% DALLA A ALLA Z: SEMINARIO CONCLUSIVO &#8211; Parte 2
DESCRIPTION:<strong>SEMINARIO CONCLUSIVO
</strong>12 e 14 maggio
<a href="https://accademiamb.it/wp-content/uploads/2021/05/OIMB-Superbonus-110_Locandina-Seminario-1_PG-20210328.pdf">[OIMB] Superbonus 110_Locandina Seminario 1_PG-20210328</a>
LOCATION:
END:VEVENT
END:VCALENDAR
