BEGIN:VCALENDAR
VERSION:2.0
PRODID:-//accademiamb
CALSCALE:GREGORIAN
METHOD:PUBLISH
X-WR-CALNAME:accademiamb
X-ORIGINAL-URL:https://accademiamb.it/prodotto/lenigmatico-computer-quantistico-lezione-1/
X-WR-CALDESC:L’ENIGMATICO COMPUTER QUANTISTICO &#8211; Lezione 1
BEGIN:VEVENT
DTSTART:20210511T153000
DTEND:20210511T173000
SUMMARY:L’ENIGMATICO COMPUTER QUANTISTICO &#8211; Lezione 1
DESCRIPTION:11 maggio dalle 15.30 alle 17.30
18 maggio dalle 15.30 alle 18.30

<a href="https://accademiamb.it/wp-content/uploads/2021/05/locandina-11-e-18-05-21.pdf">locandina - 11 e 18 05-21</a>

&nbsp;
LOCATION:
END:VEVENT
END:VCALENDAR
