BEGIN:VCALENDAR
VERSION:2.0
PRODID:-//accademiamb
CALSCALE:GREGORIAN
METHOD:PUBLISH
X-WR-CALNAME:accademiamb
X-ORIGINAL-URL:https://accademiamb.it/prodotto/capitolo-s-6-parte-2/
X-WR-CALDESC:Capitolo S.6 &#8211; Parte 2
BEGIN:VEVENT
DTSTART:20210520T140000
DTEND:20210520T170000
SUMMARY:Capitolo S.6 &#8211; Parte 2
DESCRIPTION:Corso diviso in due Moduli da 3 ore.

<a href="https://accademiamb.it/wp-content/uploads/2021/04/Locandina_19_20_05_2021.pdf">Locandina_19_20_05_2021</a>

&nbsp;
LOCATION:
END:VEVENT
END:VCALENDAR
