BEGIN:VCALENDAR
VERSION:2.0
PRODID:-//accademiamb
CALSCALE:GREGORIAN
METHOD:PUBLISH
X-WR-CALNAME:accademiamb
X-ORIGINAL-URL:https://accademiamb.it/prodotto/iso-450012018-auditor-lead-auditor-cqi-irca-1956-lezione-2/
X-WR-CALDESC:ISO 45001:2018 Auditor/Lead Auditor  (CQI IRCA 1956) &#8211; Lezione 2
BEGIN:VEVENT
DTSTART:20210525T090000
DTEND:20210525T180000
SUMMARY:ISO 45001:2018 Auditor/Lead Auditor  (CQI IRCA 1956) &#8211; Lezione 2
DESCRIPTION:
LOCATION:
END:VEVENT
END:VCALENDAR
