BEGIN:VCALENDAR
VERSION:2.0
PRODID:-//accademiamb
CALSCALE:GREGORIAN
METHOD:PUBLISH
X-WR-CALNAME:accademiamb
X-ORIGINAL-URL:https://accademiamb.it/prodotto/iso-450012018-auditor-lead-auditor-cqi-irca-1956-lezione-1/
X-WR-CALDESC:ISO 45001:2018 Auditor/Lead Auditor  (CQI IRCA 1956) &#8211; Lezione 1
BEGIN:VEVENT
DTSTART:20210524T090000
DTEND:20210524T180000
SUMMARY:ISO 45001:2018 Auditor/Lead Auditor  (CQI IRCA 1956) &#8211; Lezione 1
DESCRIPTION:
LOCATION:
END:VEVENT
END:VCALENDAR
